BEGIN:VCALENDAR
PRODID:NingEventWidget-v1
VERSION:2.0
METHOD:PUBLISH
BEGIN:VTIMEZONE
TZID:Europe/London
X-LIC-LOCATION:Europe/London
BEGIN:DAYLIGHT
TZOFFSETFROM:+0000
TZOFFSETTO:+0100
TZNAME:BST
DTSTART:19700329T010000
RRULE:FREQ=YEARLY;BYMONTH=3;BYDAY=-1SU
END:DAYLIGHT
BEGIN:STANDARD
TZOFFSETFROM:+0100
TZOFFSETTO:+0000
TZNAME:GMT
DTSTART:19701025T020000
RRULE:FREQ=YEARLY;BYMONTH=10;BYDAY=-1SU
END:STANDARD
END:VTIMEZONE
BEGIN:VEVENT
UID:2535987:Event:33586
DTSTAMP:20260424T232722Z
SUMMARY:Wednesday Meeting
DESCRIPTION:Regular Wednesday climbing meet at the Waterloo.\n\nEveryo
 ne welcome, see you all there.\n\nFor more information visit https://m
 ountaineeringclubofbury.ning.com/events/wednesday-meeting
DTSTART;TZID=Europe/London:20120731T180000
DTEND;TZID=Europe/London:20120731T190000
CATEGORIES:wednesday, meeting
LOCATION:Waterloo Pub
WEBSITE:
URL:
CONTACT:
ORGANIZER;CN="William Shaw":https://mountaineeringclubofbury.ning.com/
 profile/WilliamShaw
ATTACH;FMTTYPE="image/jpeg":
ATTENDEE;ROLE=REQ-PARTICIPANT;PARTSTAT=ACCEPTED;RSVP=TRUE;CN="Derek Ke
 nyon":https://mountaineeringclubofbury.ning.com/profile/DerekKenyon
ATTENDEE;ROLE=REQ-PARTICIPANT;PARTSTAT=ACCEPTED;RSVP=TRUE;CN="William 
 Shaw":https://mountaineeringclubofbury.ning.com/profile/WilliamShaw
END:VEVENT
END:VCALENDAR
