BEGIN:VCALENDAR
PRODID:NingEventWidget-v1
VERSION:2.0
METHOD:PUBLISH
BEGIN:VTIMEZONE
TZID:Europe/London
X-LIC-LOCATION:Europe/London
BEGIN:DAYLIGHT
TZOFFSETFROM:+0000
TZOFFSETTO:+0100
TZNAME:BST
DTSTART:19700329T010000
RRULE:FREQ=YEARLY;BYMONTH=3;BYDAY=-1SU
END:DAYLIGHT
BEGIN:STANDARD
TZOFFSETFROM:+0100
TZOFFSETTO:+0000
TZNAME:GMT
DTSTART:19701025T020000
RRULE:FREQ=YEARLY;BYMONTH=10;BYDAY=-1SU
END:STANDARD
END:VTIMEZONE
BEGIN:VEVENT
UID:2535987:Event:156936
DTSTAMP:20260425T213041Z
SUMMARY:Monthly MOB walk - January
DESCRIPTION:Easy/Steady walk in limestone country to start off the New
  Year.\r\nAbout 9 miles.Start in Malham car park. GR 900627.\r\nApprox
  post code BD23 4DG\r\nmeet at 9.30 \n\nFor more information visit ht
 tps://mountaineeringclubofbury.ning.com/events/monthly-mob-walk-januar
 y
DTSTART;TZID=Europe/London:20230115T000000
DTEND;TZID=Europe/London:20230115T235900
CATEGORIES:monthly, walk
LOCATION:Malham
WEBSITE:
URL:
CONTACT:
ORGANIZER;CN="Cath Skinner":https://mountaineeringclubofbury.ning.com/
 profile/CathSkinner
ATTACH;FMTTYPE="image/jpeg":
ATTENDEE;ROLE=REQ-PARTICIPANT;PARTSTAT=ACCEPTED;RSVP=TRUE;CN="John bra
 ndon":https://mountaineeringclubofbury.ning.com/profile/Johnbrandon
ATTENDEE;ROLE=REQ-PARTICIPANT;PARTSTAT=ACCEPTED;RSVP=TRUE;CN="Cath Ski
 nner":https://mountaineeringclubofbury.ning.com/profile/CathSkinner
END:VEVENT
END:VCALENDAR
